Workbook

Sheet Opći podaci
A1: Prilog 1.
A2: OPĆI PODACI ZA IZDAVATELJE | N2: 1
N3: 2
A4: Razdoblje izvještavanja: | E4: 46023 | G4: do | H4: 46112 | N4: 3
N5: 4
B6: Godina: | E6: 2026
B8: Kvartal: | E8: 1
A10: Tromjesečni financijski izvještaji
A11: Matični broj (MB): | C11: 03267628 | F11: Oznaka matične države članice izdavatelja: | H11: HR
A13: Matični broj subjekta (MBS): | C13: 040002541
A15: Osobni identifikacijski broj (OIB): | C15: 17195049659 | G15: LEI: | H15: 7478000090X86WBQ6C10
B17: Šifra ustanove: | C17: 1181
A19: Tvrtka izdavatelja: | C19: Adriatic Croatia International Club, za djelatnost marina d.d.
A21: Poštanski broj i mjesto: | C21: 51000 | G21: RIJEKA
A23: Ulica i kućni broj: | C23: RUDOLFA STROHALA 2
A25: Adresa e-pošte: | C25: aci@aci-club.hr
A27: Internet adresa: | C27: www.aci-marinas.com
A29: Broj zaposlenih (krajem izvještajnog razdoblja): | C29: 352
A31: Konsolidirani izvještaj: | C31: KN | D31: (KN-nije konsolidirano/KD-konsolidirano) | I31: KN | J31: KD
A33: Revidirano: | C33: RN | D33: (RN-nije revidirano/RD-revidirano) | I33: RN | J33: RD
A35: Tvrtke ovisnih subjekata (prema MSFI): | E35: Sjedište: | J35: MB:
J48: Da
J49: Ne
A50: Knjigovodstveni servis: | C50: Ne | E50: (Da/Ne)
G51: (tvrtka knjigovodstvenog servisa)
A52: Osoba za kontakt: | C52: IDA BAJC
C53: (unosi se samo prezime i ime osobe za kontakt)
A54: Telefon: | C54: 051/271-288
A56: Adresa e-pošte: | C56: ida.bajc@aci-club.hr
A58: Revizorsko društvo:
C59: (tvrtka revizorskog društva)
A60: Ovlašteni revizor:
C61: (ime i prezime)

Sheet Bilanca
A1: BILANCA
A2: stanje na dan 31.03.2026
A3: u eurima
A4: Obveznik: Adriatic Croatia International Club, za djelatnost marina d.d.
A5: Naziv pozicije | G5: AOP oznaka | H5: Zadnji dan prethodne poslovne godine | I5: Na izvještajni datum tekućeg razdoblja
A6: 1 | G6: 2 | H6: 3 | I6: 4
A8: A) POTRAŽIVANJA ZA UPISANI A NEUPLAĆENI KAPITAL | G8: 1 | H8: 0 | I8: 0
A9: B) DUGOTRAJNA IMOVINA (AOP 003+010+020+031+036) | G9: 2 | H9: =H10+H17+H27+H38+H43 -> 41278065 | I9: =I10+I17+I27+I38+I43 -> 39893429
A10: I. NEMATERIJALNA IMOVINA (AOP 004 do 009) | G10: 3 | H10: =H11+H12+H13+H14+H15+H16 -> 2167525.1 | I10: =I11+I12+I13+I14+I15+I16 -> 2030268.7
A11: 1. Izdaci za razvoj | G11: 4 | H11: 0 | I11: 0
A12: 2. Koncesije, patenti, licencije, robne i uslužne marke, softver i ostala prava | G12: 5 | H12: 2167525.1 | I12: 2015168.6
A13: 3. Goodwill | G13: 6 | H13: 0 | I13: 0
A14: 4. Predujmovi za nabavu nematerijalne imovine | G14: 7 | H14: 0.04 | I14: 0.04
A15: 5. Nematerijalna imovina u pripremi | G15: 8 | H15: 0 | I15: 15100
A16: 6. Ostala nematerijalna imovina | G16: 9 | H16: 0 | I16: 0
A17: II. MATERIJALNA IMOVINA (AOP 011 do 019) | G17: 10 | H17: =H18+H19+H20+H21+H22+H23+H24+H25+H26 -> 37168484 | I17: =I18+I19+I20+I21+I22+I23+I24+I25+I26 -> 35327544
A18: 1. Zemljište | G18: 11 | H18: 3041127.9 | I18: 3041127.9
A19: 2. Građevinski objekti | G19: 12 | H19: 20209614 | I19: 19045522
A20: 3. Postrojenja i oprema | G20: 13 | H20: 5408687.7 | I20: 5033573.1
A21: 4. Alati, pogonski inventar i transportna imovina | G21: 14 | H21: 3016803.6 | I21: 2800368.2
A22: 5. Biološka imovina | G22: 15 | H22: 0 | I22: 0
A23: 6. Predujmovi za materijalnu imovinu | G23: 16 | H23: 167791.17 | I23: 139380.81
A24: 7. Materijalna imovina u pripremi | G24: 17 | H24: 1353109.5 | I24: 1530643.9
A25: 8. Ostala materijalna imovina | G25: 18 | H25: 71108.76 | I25: 70245.69
A26: 9. Ulaganje u nekretnine | G26: 19 | H26: 3900240.8 | I26: 3666682
A27: III. DUGOTRAJNA FINANCIJSKA IMOVINA (AOP 021 do 030) | G27: 20 | H27: =SUM(H28:H37) -> 1683447.4 | I27: =SUM(I28:I37) -> 2277007.4
A28: 1. Ulaganja u udjele (dionice) poduzetnika unutar grupe | G28: 21 | H28: 0 | I28: 0
A29: 2. Ulaganja u ostale vrijednosne papire poduzetnika unutar grupe | G29: 22 | H29: 0 | I29: 0
A30: 3. Dani zajmovi, depoziti i slično poduzetnicima unutar grupe | G30: 23 | H30: 0 | I30: 0
A31: 4.Ulaganja u udjele (dionice) društava povezanih sudjelujućim interesom | G31: 24 | H31: 1683447.4 | I31: 2277007.4
A32: 5. Ulaganja u ostale vrijednosne papire društava povezanih sudjelujućim interesom | G32: 25 | H32: 0 | I32: 0
A33: 6. Dani zajmovi, depoziti i slično društvima povezanim sudjelujućim interesom | G33: 26 | H33: 0 | I33: 0
A34: 7. Ulaganja u vrijednosne papire | G34: 27 | H34: 0 | I34: 0
A35: 8. Dani zajmovi, depoziti i slično | G35: 28 | H35: 0 | I35: 0
A36: 9. Ostala ulaganja koja se obračunavaju metodom udjela | G36: 29 | H36: 0 | I36: 0
A37: 10. Ostala dugotrajna financijska imovina | G37: 30 | H37: 0 | I37: 0
A38: IV. POTRAŽIVANJA (AOP 032 do 035) | G38: 31 | H38: =H39+H40+H41+H42 -> 0 | I38: =I39+I40+I41+I42 -> 0
A39: 1. Potraživanja od poduzetnika unutar grupe | G39: 32 | H39: 0 | I39: 0
A40: 2. Potraživanja od društava povezanih sudjelujućim interesom | G40: 33 | H40: 0 | I40: 0
A41: 3. Potraživanja od kupaca | G41: 34 | H41: 0 | I41: 0
...

Sheet RDG
A1: RAČUN DOBITI I GUBITKA
A2: u razdoblju 01.01.2026. do 31.03.2026.
A3: u eurima
A4: Obveznik: Adriatic Croatia International Club, za djelatnost marina d.d.
A5: Naziv pozicije | G5: AOP oznaka | H5: Isto razdoblje prethodne godine | J5: Tekuće razdoblje
H6: Kumulativ | I6: Tromjesečje | J6: Kumulativ | K6: Tromjesečje
A7: 1 | G7: 2 | H7: 3 | I7: 4 | J7: 5 | K7: 6
A8: I. POSLOVNI PRIHODI (AOP 002 do 006) | G8: 1 | H8: =SUM(H9:H13) -> 6307261.2 | I8: =SUM(I9:I13) -> 6307261.2 | J8: =SUM(J9:J13) -> 6475635.1 | K8: =SUM(K9:K13) -> 6475635.1
A9: 1. Prihodi od prodaje s poduzetnicima unutar grupe | G9: 2 | H9: 0 | I9: 0 | J9: 0 | K9: 0
A10: 2. Prihodi od prodaje | G10: 3 | H10: 6097439.3 | I10: 6097439.3 | J10: 6173606 | K10: 6173606
A11: 3. Prihodi na temelju upotrebe vlastitih proizvoda, robe i usluga | G11: 4 | H11: 0 | I11: 0 | J11: 0 | K11: 0
A12: 4. Ostali poslovni prihodi s poduzetnicima unutar grupe | G12: 5 | H12: 0 | I12: 0 | J12: 0 | K12: 0
A13: 5. Ostali poslovni prihodi (izvan grupe) | G13: 6 | H13: 209821.94 | I13: 209821.94 | J13: 302029.09 | K13: 302029.09
A14: II. POSLOVNI RASHODI (AOP 08+009+013+017+018+019+022+029) | G14: 7 | H14: =H15+H16+H20+H24+H25+H26+H29+H36 -> 7902029.3 | I14: =I15+I16+I20+I24+I25+I26+I29+I36 -> 7902029.3 | J14: =J15+J16+J20+J24+J25+J26+J29+J36 -> 7607624.5 | K14: =K15+K16+K20+K24+K25+K26+K29+K36 -> 7607624.5
A15: 1. Promjene vrijednosti zaliha proizvodnje u tijeku i gotovih proizvoda | G15: 8 | H15: 0 | I15: 0 | J15: 0 | K15: 0
A16: 2. Materijalni troškovi (AOP 010 do 012) | G16: 9 | H16: =SUM(H17:H19) -> 1932680.5 | I16: =SUM(I17:I19) -> 1932680.5 | J16: =SUM(J17:J19) -> 1765126.2 | K16: =SUM(K17:K19) -> 1765126.2
A17: a) Troškovi sirovina i materijala | G17: 10 | H17: 387673.92 | I17: 387673.92 | J17: 398836.23 | K17: 398836.23
A18: b) Troškovi prodane robe | G18: 11 | H18: 1017.43 | I18: 1017.43 | J18: 635.59 | K18: 635.59
A19: c) Ostali vanjski troškovi | G19: 12 | H19: 1543989.1 | I19: 1543989.1 | J19: 1365654.3 | K19: 1365654.3
A20: 3. Troškovi osoblja (AOP 014 do 016) | G20: 13 | H20: =SUM(H21:H23) -> 2680092.5 | I20: =SUM(I21:I23) -> 2680092.5 | J20: =SUM(J21:J23) -> 2957699.6 | K20: =SUM(K21:K23) -> 2957699.6
A21: a) Neto plaće i nadnice | G21: 14 | H21: 1647065.1 | I21: 1647065.1 | J21: 1758160.3 | K21: 1758160.3
A22: b) Troškovi poreza i doprinosa iz plaća | G22: 15 | H22: 660223.72 | I22: 660223.72 | J22: 796293.76 | K22: 796293.76
A23: c) Doprinosi na plaće | G23: 16 | H23: 372803.68 | I23: 372803.68 | J23: 403245.56 | K23: 403245.56
A24: 4. Amortizacija | G24: 17 | H24: 2320133.1 | I24: 2320133.1 | J24: 2228987.4 | K24: 2228987.4
A25: 5. Ostali troškovi | G25: 18 | H25: 496102.69 | I25: 496102.69 | J25: 469612.8 | K25: 469612.8
A26: 6. Vrijednosna usklađenja (AOP 020+021) | G26: 19 | H26: =H27+H28 -> 332662.37 | I26: =I27+I28 -> 332662.37 | J26: =J27+J28 -> 98291.2 | K26: =K27+K28 -> 98291.2
A27: a) dugotrajne imovine osim financijske imovine | G27: 20 | H27: 0 | I27: 0 | J27: 0 | K27: 0
A28: b) kratkotrajne imovine osim financijske imovine | G28: 21 | H28: 332662.37 | I28: 332662.37 | J28: 98291.2 | K28: 98291.2
A29: 7. Rezerviranja (AOP 023 do 028) | G29: 22 | H29: =SUM(H30:H35) -> 105245.9 | I29: =SUM(I30:I35) -> 105245.9 | J29: =SUM(J30:J35) -> 13650 | K29: =SUM(K30:K35) -> 13650
A30: a) Rezerviranja za mirovine, otpremnine i slične obveze | G30: 23 | H30: 0 | I30: 0 | J30: 0 | K30: 0
A31: b) Rezerviranja za porezne obveze | G31: 24 | H31: 0 | I31: 0 | J31: 0 | K31: 0
A32: c) Rezerviranja za započete sudske sporove | G32: 25 | H32: 105245.9 | I32: 105245.9 | J32: 13650 | K32: 13650
A33: d) Rezerviranja za troškove obnavljanja prirodnih bogatstava | G33: 26 | H33: 0 | I33: 0 | J33: 0 | K33: 0
A34: e) Rezerviranja za troškove u jamstvenim rokovima | G34: 27 | H34: 0 | I34: 0 | J34: 0 | K34: 0
A35: f) Druga rezerviranja | G35: 28 | H35: 0 | I35: 0 | J35: 0 | K35: 0
A36: 8. Ostali poslovni rashodi | G36: 29 | H36: 35112.27 | I36: 35112.27 | J36: 74257.3 | K36: 74257.3
A37: III. FINANCIJSKI PRIHODI (AOP 031 do 040) | G37: 30 | H37: =SUM(H38:H47) -> 227182.8 | I37: =SUM(I38:I47) -> 227182.8 | J37: =SUM(J38:J47) -> 193843.63 | K37: =SUM(K38:K47) -> 193843.63
A38: 1. Prihodi od ulaganja u udjele (dionice) poduzetnika unutar grupe | G38: 31 | H38: 0 | I38: 0 | J38: 0 | K38: 0
A39: 2. Prihodi od ulaganja u udjele (dionice) društava povezanih sudjelujućim interesima | G39: 32 | H39: 0 | I39: 0 | J39: 0 | K39: 0
A40: 3. Prihodi od ostalih dugotrajnih financijskih ulaganja i zajmova poduzetnicima unutar grupe | G40: 33 | H40: 0 | I40: 0 | J40: 0 | K40: 0
...

Sheet NT_I
A1: IZVJEŠTAJ O NOVČANOM TIJEKU - Indirektna metoda
A2: u razdoblju 01.01.2026. do 31.03.2026.
A3: u eurima
A4: Obveznik: Adriatic Croatia International Club, za djelatnost marina d.d.
A5: Naziv pozicije | G5: AOP oznaka | H5: Isto razdoblje prethodne godine | I5: Tekuće razdoblje
A6: 1 | G6: 2 | H6: 3 | I6: 4
A7: Novčani tokovi od poslovnih aktivnosti
A8: 1. Dobit prije oporezivanja | G8: 1 | H8: 0 | I8: 0
A9: 2. Usklađenja (AOP 003 do 010): | G9: 2 | H9: =H10+H11+H12+H13+H14+H15+H16+H17 -> 0 | I9: =I10+I11+I12+I13+I14+I15+I16+I17 -> 0
A10: a) Amortizacija | G10: 3 | H10: 0 | I10: 0
A11: b) Dobici i gubici od prodaje i vrijednosna usklađenja dugotrajne materijalne i nematerijalne imovine | G11: 4 | H11: 0 | I11: 0
A12: c) Dobici i gubici od prodaje i nerealizirani dobici i gubici i vrijednosno usklađenje financijske imovine | G12: 5 | H12: 0 | I12: 0
A13: d) Prihodi od kamata i dividendi | G13: 6 | H13: 0 | I13: 0
A14: e) Rashodi od kamata | G14: 7 | H14: 0 | I14: 0
A15: f) Rezerviranja | G15: 8 | H15: 0 | I15: 0
A16: g) Tečajne razlike (nerealizirane) | G16: 9 | H16: 0 | I16: 0
A17: h) Ostala usklađenja za nenovčane transakcije i nerealizirane dobitke i gubitke | G17: 10 | H17: 0 | I17: 0
A18: I. Povećanje ili smanjenje novčanih tokova prije promjena u radnom kapitalu (AOP 001+002) | G18: 11 | H18: =H8+H9 -> 0 | I18: =I8+I9 -> 0
A19: 3. Promjene u radnom kapitalu (AOP 013 do 016) | G19: 12 | H19: =H20+H21+H22+H23 -> 0 | I19: =I20+I21+I22+I23 -> 0
A20: a) Povećanje ili smanjenje kratkoročnih obveza | G20: 13 | H20: 0 | I20: 0
A21: b) Povećanje ili smanjenje kratkotrajnih potraživanja | G21: 14 | H21: 0 | I21: 0
A22: c) Povećanje ili smanjenje zaliha | G22: 15 | H22: 0 | I22: 0
A23: d) Ostala povećanja ili smanjenja radnog kapitala | G23: 16 | H23: 0 | I23: 0
A24: II. Novac iz poslovanja (AOP 011+012) | G24: 17 | H24: =H18+H19 -> 0 | I24: =I18+I19 -> 0
A25: 4. Novčani izdaci za kamate | G25: 18 | H25: 0 | I25: 0
A26: 5. Plaćeni porez na dobit | G26: 19 | H26: 0 | I26: 0
A27: A) NETO NOVČANI TOKOVI OD POSLOVNIH AKTIVNOSTI (AOP 017 do 019) | G27: 20 | H27: =H24+H25+H26 -> 0 | I27: =I24+I25+I26 -> 0
A28: Novčani tokovi od investicijskih aktivnosti
A29: 1. Novčani primici od prodaje dugotrajne materijalne i nematerijalne imovine | G29: 21 | H29: 0 | I29: 0
A30: 2. Novčani primici od prodaje financijskih instrumenata | G30: 22 | H30: 0 | I30: 0
A31: 3. Novčani primici od kamata | G31: 23 | H31: 0 | I31: 0
A32: 4. Novčani primici od dividendi | G32: 24 | H32: 0 | I32: 0
A33: 5. Novačani primici s osnove povrata danih zajmova i štednih uloga | G33: 25 | H33: 0 | I33: 0
A34: 6. Ostali novčani primici od investicijskih aktivnosti | G34: 26 | H34: 0 | I34: 0
A35: III. Ukupno novčani primici od investicijskih aktivnosti (AOP 021 do 026) | G35: 27 | H35: =H29+H30+H31+H32+H33+H34 -> 0 | I35: =I29+I30+I31+I32+I33+I34 -> 0
A36: 1. Novčani izdaci za kupnju dugotrajne materijalne i nematerijalne imovine | G36: 28 | H36: 0 | I36: 0
A37: 2. Novčani izdaci za stjecanje financijskih instrumenata | G37: 29 | H37: 0 | I37: 0
A38: 3. Novačani izdaci s osnove danih zajmova i štednih uloga za razdoblje | G38: 30 | H38: 0 | I38: 0
A39: 4. Stjecanje ovisnog društva, umanjeno za stečeni novac | G39: 31 | H39: 0 | I39: 0
A40: 5. Ostali novčani izdaci od investicijskih aktivnosti | G40: 32 | H40: 0 | I40: 0
...

Sheet NT_D
A1: IZVJEŠTAJ O NOVČANOM TIJEKU - Direktna metoda
A2: u razdoblju 01.01.2026. do 31.03.2026.
A3: u eurima
A4: Obveznik: Adriatic Croatia International Club, za djelatnost marina d.d.
A5: Naziv pozicije | G5: AOP oznaka | H5: Isto razdoblje prethodne godine | I5: Tekuće razdoblje
A6: 1 | G6: 2 | H6: 3 | I6: 4
A7: Novčani tokovi od poslovnih aktivnosti
A8: 1. Novčani primici od kupaca | G8: 1 | H8: 5344946.2 | I8: 6384954.5
A9: 2. Novčani primici od tantijema, naknada, provizija i sl. | G9: 2 | H9: 0 | I9: 0
A10: 3. Novčani primici od osiguranja za naknadu šteta | G10: 3 | H10: 21006.72 | I10: 14345
A11: 4. Novčani primici s osnove povrata poreza | G11: 4 | H11: 0 | I11: 0
A12: 5. Ostali novčani primici od poslovnih aktivnosti | G12: 5 | H12: 10145.25 | I12: 85936.99
A13: I. Ukupno novčani primici od poslovnih aktivnosti (AOP 001 do 005) | G13: 6 | H13: =SUM(H8:H12) -> 5376098.2 | I13: =SUM(I8:I12) -> 6485236.5
A14: 1. Novčani izdaci dobavljačima | G14: 7 | H14: -3293504.3 | I14: -3151606.9
A15: 2. Novčani izdaci za zaposlene | G15: 8 | H15: -3256294.8 | I15: -3749245.1
A16: 3. Novčani izdaci za osiguranje za naknade šteta | G16: 9 | H16: -2051.21 | I16: -1575.19
A17: 4. Novčani izdaci za kamate | G17: 10 | H17: -9538.52 | I17: -6990.79
A18: 5. Plaćeni porez na dobit | G18: 11 | H18: -197808.87 | I18: -102653.94
A19: 6. Ostali novčani izdaci od poslovnih aktivnosti | G19: 12 | H19: -334361.28 | I19: -485008.64
A20: II. Ukupno novčani izdaci od poslovnih aktivnosti (AOP 007 do 012) | G20: 13 | H20: =SUM(H14:H19) -> -7093558.9 | I20: =SUM(I14:I19) -> -7497080.5
A21: A) NETO NOVČANI TOKOVI OD POSLOVNIH AKTIVNOSTI (AOP 006 + 013) | G21: 14 | H21: =H13+H20 -> -1717460.7 | I21: =I13+I20 -> -1011844.1
A22: Novčani tokovi od investicijskih aktivnosti
A23: 1. Novčani primici od prodaje dugotrajne materijalne i nematerijalne imovine | G23: 15 | H23: 0 | I23: 1101.71
A24: 2. Novčani primici od prodaje financijskih instrumenata | G24: 16 | H24: 0 | I24: 0
A25: 3. Novčani primici od kamata | G25: 17 | H25: 102529.53 | I25: 201797.1
A26: 4. Novčani primici od dividendi | G26: 18 | H26: 0 | I26: 0
A27: 5. Novčani primici s osnove povrata danih zajmova i štednih uloga | G27: 19 | H27: 0 | I27: 0
A28: 6. Ostali novčani primici od investicijskih aktivnosti | G28: 20 | H28: 10500000 | I28: 27084886
A29: III. Ukupno novčani primici od investicijskih aktivnosti (AOP 015 do 020) | G29: 21 | H29: =SUM(H23:H28) -> 10602530 | I29: =SUM(I23:I28) -> 27287785
A30: 1. Novčani izdaci za kupnju dugotrajne materijalne i nematerijalne imovine | G30: 22 | H30: -446413.87 | I30: -277837.62
A31: 2. Novčani izdaci za stjecanje financijskih instrumenata | G31: 23 | H31: 0 | I31: -630000
A32: 3. Novčani izdaci s osnove danih zajmova i štednih uloga | G32: 24 | H32: 0 | I32: 0
A33: 4. Stjecanje ovisnog društva, umanjeno za stečeni novac | G33: 25 | H33: 0 | I33: 0
A34: 5. Ostali novčani izdaci od investicijskih aktivnosti | G34: 26 | H34: -1000000 | I34: -28000000
A35: IV. Ukupno novčani izdaci od investicijskih aktivnosti (AOP 022 do 026) | G35: 27 | H35: =SUM(H30:H34) -> -1446413.9 | I35: =SUM(I30:I34) -> -28907838
A36: B) NETO NOVČANI TOKOVI OD INVESTICIJSKIH AKTIVNOSTI (AOP 021 + 027) | G36: 28 | H36: =H29+H35 -> 9156115.7 | I36: =I29+I35 -> -1620052.5
A37: Novčani tokovi od financijskih aktivnosti | G37: 0
A38: 1. Novčani primici od povećanja temeljnog (upisanog) kapitala | G38: 29 | H38: 0 | I38: 0
A39: 2. Novčani primici od izdavanja vlasničkih i dužničkih financijskih instrumenata | G39: 30 | H39: 0 | I39: 0
A40: 3. Novčani primici od glavnice kredita, pozajmica i drugih posudbi | G40: 31 | H40: 0 | I40: 0
...

Sheet PK
A1: IZVJEŠTAJ O PROMJENAMA KAPITALA
C2: za razdoblje od | E2: 46023 | F2: do | G2: 46112 | Y2: u eurima
A3: Opis pozicije | G3: AOP oznaka | H3: Raspodjeljivo imateljima kapitala matice | Y3: Manjinski (nekontrolirajući) interes | Z3: Ukupno kapital i rezerve
H4: Temeljni (upisani) kapital | I4: Kapitalne rezerve | J4: Zakonske rezerve | K4: Rezerve za vlastite dionice | L4: Vlastite dionice i udjeli (odbitna stavka) | M4: Statutarne rezerve | N4: Ostale rezerve | O4: Revalorizacijske rezerve | P4: Fer vrijednost financijske imovine kroz ostalu sveobuhvatnu dobit (raspoloživa za prodaju) | Q4: Učinkoviti dio zaštite novčanih tokova | R4: Učinkoviti dio zaštite neto ulaganja u inozemstvo | S4: Ostale rezerve fer vrijednosti | T4: Tečajne razlike iz preračuna inozemnog poslovanja | U4: Tečajne razlike zbog preračuna u prezentacijsku valutu | V4: Zadržana dobit / preneseni gubitak | W4: Dobit / gubitak poslovne godine | X4: Ukupno raspodjeljivo imateljima kapitala matice
A5: 1 | G5: 2 | H5: 3 | I5: 4 | J5: 5 | K5: 6 | L5: 7 | M5: 8 | N5: 9 | O5: 10 | P5: 11 | Q5: 12 | R5: 13 | S5: 14 | T5: 15 | U5: 16 | V5: 17 | W5: 18 | X5: 19 (3 do 6 - 7 + 8 do 18) | Y5: 20 | Z5: 21 (19+20)
A6: Prethodno razdoblje
A7: 1. Stanje na dan početka prethodne poslovne godine | G7: 1 | H7: =+Bilanca!I76 -> 53064702 | I7: 0 | J7: =+Bilanca!I79 -> 2653235.1 | K7: 0 | L7: 0 | M7: 0 | N7: 0 | O7: 0 | P7: 0 | Q7: 0 | R7: 0 | S7: 0 | T7: 0 | U7: 0 | V7: 13883962 | W7: 891284.37 | X7: =H7+I7+J7+K7-L7+M7+N7+O7+P7+Q7+R7+V7+W7+S7+T7+U7 -> 70493184 | Y7: 0 | Z7: =X7+Y7 -> 70493184
A8: 2. Promjene računovodstvenih politika | G8: 2 | H8: 0 | I8: 0 | J8: 0 | K8: 0 | L8: 0 | M8: 0 | N8: 0 | O8: 0 | P8: 0 | Q8: 0 | R8: 0 | S8: 0 | T8: 0 | U8: 0 | V8: 0 | W8: 0 | X8: =H8+I8+J8+K8-L8+M8+N8+O8+P8+Q8+R8+V8+W8+S8+T8+U8 -> 0 | Y8: 0 | Z8: =X8+Y8 -> 0
A9: 3. Ispravak pogreški | G9: 3 | H9: 0 | I9: 0 | J9: 0 | K9: 0 | L9: 0 | M9: 0 | N9: 0 | O9: 0 | P9: 0 | Q9: 0 | R9: 0 | S9: 0 | T9: 0 | U9: 0 | V9: 0 | W9: 0 | X9: =H9+I9+J9+K9-L9+M9+N9+O9+P9+Q9+R9+V9+W9+S9+T9+U9 -> 0 | Y9: 0 | Z9: =X9+Y9 -> 0
A10: 4. Stanje na dan početka prethodne poslovne godine (prepravljeno) (AOP 01 do 03) | G10: 4 | H10: =H7+H8+H9 -> 53064702 | I10: =I7+I8+I9 -> 0 | J10: =J7+J8+J9 -> 2653235.1 | K10: =K7+K8+K9 -> 0 | L10: =L7+L8+L9 -> 0 | M10: =M7+M8+M9 -> 0 | N10: =N7+N8+N9 -> 0 | O10: =O7+O8+O9 -> 0 | ... Z10: =Z7+Z8+Z9 -> 70493184
A11: 5. Dobit/gubitak razdoblja | G11: 5 | H11: 0 | I11: 0 | J11: 0 | K11: 0 | L11: 0 | M11: 0 | N11: 0 | O11: 0 | P11: 0 | Q11: 0 | R11: 0 | S11: 0 | T11: 0 | U11: 0 | V11: 0 | W11: -1439100 | X11: =H11+I11+J11+K11-L11+M11+N11+O11+P11+Q11+R11+V11+W11+S11+T11+U11 -> -1439100 | Y11: 0 | Z11: =X11+Y11 -> -1439100
A12: 6. Tečajne razlike iz preračuna inozemnog poslovanja | G12: 6 | H12: 0 | I12: 0 | J12: 0 | K12: 0 | L12: 0 | M12: 0 | N12: 0 | O12: 0 | P12: 0 | Q12: 0 | R12: 0 | S12: 0 | T12: 0 | U12: 0 | V12: 0 | W12: 0 | X12: =H12+I12+J12+K12-L12+M12+N12+O12+P12+Q12+R12+V12+W12+S12+T12+U12 -> 0 | Y12: 0 | Z12: =X12+Y12 -> 0
A13: 7. Promjene revalorizacijskih rezervi dugotrajne materijalne i nematerijalne imovine | G13: 7 | H13: 0 | I13: 0 | J13: 0 | K13: 0 | L13: 0 | M13: 0 | N13: 0 | O13: 0 | P13: 0 | Q13: 0 | R13: 0 | S13: 0 | T13: 0 | U13: 0 | V13: 0 | W13: 0 | X13: =H13+I13+J13+K13-L13+M13+N13+O13+P13+Q13+R13+V13+W13+S13+T13+U13 -> 0 | Y13: 0 | Z13: =X13+Y13 -> 0
A14: 8. Dobitak ili gubitak s osnove naknadnog vrednovanja financijske imovine prema fer vrijednosti kroz ostalu sveobuhvatnu dobit (raspoloživa za prodaju) | G14: 8 | H14: 0 | I14: 0 | J14: 0 | K14: 0 | L14: 0 | M14: 0 | N14: 0 | O14: 0 | P14: 0 | Q14: 0 | R14: 0 | S14: 0 | T14: 0 | U14: 0 | V14: 0 | W14: 0 | X14: =H14+I14+J14+K14-L14+M14+N14+O14+P14+Q14+R14+V14+W14+S14+T14+U14 -> 0 | Y14: 0 | Z14: =X14+Y14 -> 0
A15: 9. Dobitak ili gubitak s osnove učinkovite zaštite novčanog toka | G15: 9 | H15: 0 | I15: 0 | J15: 0 | K15: 0 | L15: 0 | M15: 0 | N15: 0 | O15: 0 | P15: 0 | Q15: 0 | R15: 0 | S15: 0 | T15: 0 | U15: 0 | V15: 0 | W15: 0 | X15: =H15+I15+J15+K15-L15+M15+N15+O15+P15+Q15+R15+V15+W15+S15+T15+U15 -> 0 | Y15: 0 | Z15: =X15+Y15 -> 0
A16: 10. Dobitak ili gubitak s osnove učinkovite zaštite neto ulaganja u inozemstvu | G16: 10 | H16: 0 | I16: 0 | J16: 0 | K16: 0 | L16: 0 | M16: 0 | N16: 0 | O16: 0 | P16: 0 | Q16: 0 | R16: 0 | S16: 0 | T16: 0 | U16: 0 | V16: 0 | W16: 0 | X16: =H16+I16+J16+K16-L16+M16+N16+O16+P16+Q16+R16+V16+W16+S16+T16+U16 -> 0 | Y16: 0 | Z16: =X16+Y16 -> 0
A17: 11. Udio u ostaloj sveobuhvatnoj dobiti/gubitku društava povezanih sudjelujućim interesom | G17: 11 | H17: 0 | I17: 0 | J17: 0 | K17: 0 | L17: 0 | M17: 0 | N17: 0 | O17: 0 | P17: 0 | Q17: 0 | R17: 0 | S17: 0 | T17: 0 | U17: 0 | V17: 0 | W17: 0 | X17: =H17+I17+J17+K17-L17+M17+N17+O17+P17+Q17+R17+V17+W17+S17+T17+U17 -> 0 | Y17: 0 | Z17: =X17+Y17 -> 0
A18: 12. Aktuarski dobici/gubici po planovima definiranih primanja | G18: 12 | H18: 0 | I18: 0 | J18: 0 | K18: 0 | L18: 0 | M18: 0 | N18: 0 | O18: 0 | P18: 0 | Q18: 0 | R18: 0 | S18: 0 | T18: 0 | U18: 0 | V18: 0 | W18: 0 | X18: =H18+I18+J18+K18-L18+M18+N18+O18+P18+Q18+R18+V18+W18+S18+T18+U18 -> 0 | Y18: 0 | Z18: =X18+Y18 -> 0
A19: 13. Ostale nevlasničke promjene kapitala | G19: 13 | H19: 0 | I19: 0 | J19: 0 | K19: 0 | L19: 0 | M19: 0 | N19: 0 | O19: 0 | P19: 0 | Q19: 0 | R19: 0 | S19: 0 | T19: 0 | U19: 0 | V19: 0 | W19: 0 | X19: =H19+I19+J19+K19-L19+M19+N19+O19+P19+Q19+R19+V19+W19+S19+T19+U19 -> 0 | Y19: 0 | Z19: =X19+Y19 -> 0
A20: 14. Porez na transakcije priznate direktno u kapitalu | G20: 14 | H20: 0 | I20: 0 | J20: 0 | K20: 0 | L20: 0 | M20: 0 | N20: 0 | O20: 0 | P20: 0 | Q20: 0 | R20: 0 | S20: 0 | T20: 0 | U20: 0 | V20: 0 | W20: 0 | X20: =H20+I20+J20+K20-L20+M20+N20+O20+P20+Q20+R20+V20+W20+S20+T20+U20 -> 0 | Y20: 0 | Z20: =X20+Y20 -> 0
A21: 15. Smanjenje temeljnog (upisanog) kapitala (osim u postupku predstečajne nagodbe i nastalog reinvestiranjem dobiti) | G21: 15 | H21: 0 | I21: 0 | J21: 0 | K21: 0 | L21: 0 | M21: 0 | N21: 0 | O21: 0 | P21: 0 | Q21: 0 | R21: 0 | S21: 0 | T21: 0 | U21: 0 | V21: 0 | W21: 0 | X21: =H21+I21+J21+K21-L21+M21+N21+O21+P21+Q21+R21+V21+W21+S21+T21+U21 -> 0 | Y21: 0 | Z21: =X21+Y21 -> 0
A22: 16. Smanjenje temeljnog (upisanog) kapitala u postupku predstečajne nagodbe | G22: 16 | H22: 0 | I22: 0 | J22: 0 | K22: 0 | L22: 0 | M22: 0 | N22: 0 | O22: 0 | P22: 0 | Q22: 0 | R22: 0 | S22: 0 | T22: 0 | U22: 0 | V22: 0 | W22: 0 | X22: =H22+I22+J22+K22-L22+M22+N22+O22+P22+Q22+R22+V22+W22+S22+T22+U22 -> 0 | Y22: 0 | Z22: =X22+Y22 -> 0
... A29: 23. Povećanje rezervi u postupku predstečajne nagodbe | G29: 23 | H29: 0 | I29: 0 | J29: 0 | K29: 0 | L29: 0 | M29: 0 | N29: 0 | O29: 0 | P29: 0 | Q29: 0 | R29: 0 | S29: 0 | T29: 0 | U29: 0 | V29: 0 | W29: 0 | X29: =H29+I29+J29+K29-L29+M29+N29+O29+P29+Q29+R29+V29+W29+S29+T29+U29 -> 0 | Y29: 0 | Z29: =X29+Y29 -> 0
A30: 24. Stanje na zadnji dan izvještajnog razdoblja prethodne poslovne godine (04 do 23) | G30: 24 | H30: =SUM(H10:H29) -> 53064702 | I30: =SUM(I10:I29) -> 0 | J30: =SUM(J10:J29) -> 2653235.1 | K30: =SUM(K10:K29) -> 0 | L30: =SUM(L10:L29) -> 0 | M30: =SUM(M10:M29) -> 0 | N30: =SUM(N10:N29) -> 0 | O30: =SUM(O10:O29) -> 0 | ... Z30: =SUM(Z10:Z29) -> 67266018
A31: DODATAK IZVJEŠTAJU O PROMJENAMA KAPITALA (popunjava poduzetnik obveznik primjene MSFI-a)
A32: I. OSTALA SVEOBUHVATNA DOBIT PRETHODNOG RAZDOBLJA, UMANJENO ZA POREZE (AOP 06 do 14) | G32: 25 | H32: =SUM(H12:H20) -> 0 | I32: =SUM(I12:I20) -> 0 | J32: =SUM(J12:J20) -> 0 | K32: =SUM(K12:K20) -> 0 | L32: =SUM(L12:L20) -> 0 | M32: =SUM(M12:M20) -> 0 | N32: =SUM(N12:N20) -> 0 | O32: =SUM(O12:O20) -> 0 | ... Z32: =SUM(Z12:Z20) -> 0
A33: II. SVEOBUHVATNA DOBIT ILI GUBITAK PRETHODNOG RAZDOBLJA (AOP 05+25) | G33: 26 | H33: =H11+H32 -> 0 | I33: =I11+I32 -> 0 | J33: =J11+J32 -> 0 | K33: =K11+K32 -> 0 | L33: =L11+L32 -> 0 | M33: =M11+M32 -> 0 | N33: =N11+N32 -> 0 | O33: =O11+O32 -> 0 | ... Z33: =Z11+Z32 -> -1439100
A34: III. TRANSAKCIJE S VLASNICIMA PRETHODNOG RAZDOBLJA PRIZNATE DIREKTNO U KAPITALU (AOP 15 do 23) | G34: 27 | H34: =SUM(H21:H29) -> 0 | I34: =SUM(I21:I29) -> 0 | J34: =SUM(J21:J29) -> 0 | K34: =SUM(K21:K29) -> 0 | L34: =SUM(L21:L29) -> 0 | M34: =SUM(M21:M29) -> 0 | N34: =SUM(N21:N29) -> 0 | O34: =SUM(O21:O29) -> 0 | ... Z34: =SUM(Z21:Z29) -> -1788066
A35: Tekuće razdoblje
A36: 1. Stanje na dan početka tekuće poslovne godine | G36: 28 | H36: =+H7 -> 53064702 | I36: 0 | J36: =+J7 -> 2653235.1 | K36: 0 | L36: 0 | M36: 0 | N36: 0 | O36: 0 | P36: 0 | Q36: 0 | R36: 0 | S36: 0 | T36: 0 | U36: 0 | V36: =+Bilanca!H93 -> 12451872 | W36: =+Bilanca!H96 -> 293586.51 | X36: =H36+I36+J36+K36-L36+M36+N36+O36+P36+Q36+R36+V36+W36+S36+T36+U36 -> 68463396 | Y36: 0 | Z36: =X36+Y36 -> 68463396
A37: 2. Promjene računovodstvenih politika | G37: 29 | H37: 0 | I37: 0 | J37: 0 | K37: 0 | L37: 0 | M37: 0 | N37: 0 | O37: 0 | P37: 0 | Q37: 0 | R37: 0 | S37: 0 | T37: 0 | U37: 0 | V37: 0 | W37: 0 | X37: =H37+I37+J37+K37-L37+M37+N37+O37+P37+Q37+R37+V37+W37+S37+T37+U37 -> 0 | Y37: 0 | Z37: =X37+Y37 -> 0
A38: 3. Ispravak pogreški | G38: 30 | H38: 0 | I38: 0 | J38: 0 | K38: 0 | L38: 0 | M38: 0 | N38: 0 | O38: 0 | P38: 0 | Q38: 0 | R38: 0 | S38: 0 | T38: 0 | U38: 0 | V38: 0 | W38: 0 | X38: =H38+I38+J38+K38-L38+M38+N38+O38+P38+Q38+R38+V38+W38+S38+T38+U38 -> 0 | Y38: 0 | Z38: =X38+Y38 -> 0
A39: 4. Stanje na dan početka tekuće poslovne godine (prepravljeno) (AOP 28 do 30) | G39: 31 | H39: =H36+H37+H38 -> 53064702 | I39: =I36+I37+I38 -> 0 | J39: =J36+J37+J38 -> 2653235.1 | K39: =K36+K37+K38 -> 0 | L39: =L36+L37+L38 -> 0 | M39: =M36+M37+M38 -> 0 | N39: =N36+N37+N38 -> 0 | O39: =O36+O37+O38 -> 0 | ... Z39: =Z36+Z37+Z38 -> 68463396
A40: 5. Dobit/gubitak razdoblja | G40: 32 | H40: 0 | I40: 0 | J40: 0 | K40: 0 | L40: 0 | M40: 0 | N40: 0 | O40: 0 | P40: 0 | Q40: 0 | R40: 0 | S40: 0 | T40: 0 | U40: 0 | V40: 0 | W40: =+RDG!J89 -> -1001831.8 | X40: =H40+I40+J40+K40-L40+M40+N40+O40+P40+Q40+R40+V40+W40+S40+T40+U40 -> -1001831.8 | Y40: 0 | Z40: =X40+Y40 -> -1001831.8
A41: 6. Tečajne razlike iz preračuna inozemnog poslovanja | G41: 33 | H41: 0 | I41: 0 | J41: 0 | K41: 0 | L41: 0 | M41: 0 | N41: 0 | O41: 0 | P41: 0 | Q41: 0 | R41: 0 | S41: 0 | T41: 0 | U41: 0 | V41: 0 | W41: 0 | X41: =H41+I41+J41+K41-L41+M41+N41+O41+P41+Q41+R41+V41+W41+S41+T41+U41 -> 0 | Y41: 0 | Z41: =X41+Y41 -> 0
A42: 7. Promjene revalorizacijskih rezervi dugotrajne materijalne i nematerijalne imovine | G42: 34 | H42: 0 | I42: 0 | J42: 0 | K42: 0 | L42: 0 | M42: 0 | N42: 0 | O42: 0 | P42: 0 | Q42: 0 | R42: 0 | S42: 0 | T42: 0 | U42: 0 | V42: 0 | W42: 0 | X42: =H42+I42+J42+K42-L42+M42+N42+O42+P42+Q42+R42+V42+W42+S42+T42+U42 -> 0 | Y42: 0 | Z42: =X42+Y42 -> 0
A43: 8. Dobitak ili gubitak s osnove naknadnog vrednovanja financijske imovine prema fer vrijednosti kroz ostalu sveobuhvatnu dobit (raspoloživa za prodaju) | G43: 35 | H43: 0 | I43: 0 | J43: 0 | K43: 0 | L43: 0 | M43: 0 | N43: 0 | O43: 0 | P43: 0 | Q43: 0 | R43: 0 | S43: 0 | T43: 0 | U43: 0 | V43: 0 | W43: 0 | X43: =H43+I43+J43+K43-L43+M43+N43+O43+P43+Q43+R43+V43+W43+S43+T43+U43 -> 0 | Y43: 0 | Z43: =X43+Y43 -> 0
A44: 9. Dobitak ili gubitak s osnove učinkovite zaštite novčanog toka | G44: 36 | H44: 0 | I44: 0 | J44: 0 | K44: 0 | L44: 0 | M44: 0 | N44: 0 | O44: 0 | P44: 0 | Q44: 0 | R44: 0 | S44: 0 | T44: 0 | U44: 0 | V44: 0 | W44: 0 | X44: =H44+I44+J44+K44-L44+M44+N44+O44+P44+Q44+R44+V44+W44+S44+T44+U44 -> 0 | Y44: 0 | Z44: =X44+Y44 -> 0
A45: 10. Dobitak ili gubitak s osnove učinkovite zaštite neto ulaganja u inozemstvu | G45: 37 | H45: 0 | I45: 0 | J45: 0 | K45: 0 | L45: 0 | M45: 0 | N45: 0 | O45: 0 | P45: 0 | Q45: 0 | R45: 0 | S45: 0 | T45: 0 | U45: 0 | V45: 0 | W45: 0 | X45: =H45+I45+J45+K45-L45+M45+N45+O45+P45+Q45+R45+V45+W45+S45+T45+U45 -> 0 | Y45: 0 | Z45: =X45+Y45 -> 0
A46: 11. Udio u ostaloj sveobuhvatnoj dobiti/gubitku društava povezanih sudjelujućim interesom | G46: 38 | H46: 0 | I46: 0 | J46: 0 | K46: 0 | L46: 0 | M46: 0 | N46: 0 | O46: 0 | P46: 0 | Q46: 0 | R46: 0 | S46: 0 | T46: 0 | U46: 0 | V46: 0 | W46: 0 | X46: =H46+I46+J46+K46-L46+M46+N46+O46+P46+Q46+R46+V46+W46+S46+T46+U46 -> 0 | Y46: 0 | Z46: =X46+Y46 -> 0
...

Sheet Bilješke
A1: BILJEŠKE UZ FINANCIJSKE IZVJEŠTAJE - TFI (koji se sastavljaju za tromjesečna razdoblja) Naziv izdavatelja: Adriatic Croatia International Club, za djelatnost marina d.d. OIB: 17195049659 Izvještajno razdoblje: 01.01. do 31.03.2026. Bilješke uz financijske izvještaje za tromjesečna razdoblja uključuju: a) objašnjenje poslovnih događaja koji su značajni za razumijevanje promjena u izvještaju o financijskog položaju i poslovnim rezultatima za izvještajno tromjesečno razdoblje izdavatelja u odnosu na zadnju poslovnu godinu, odnosno objavljuju se informacije vezane uz te događaje i ažuriraju odgovarajuće informacije objavljene u posljednjem godišnjem financijskom izvještaju (točke od 15. do 15C MRS 34 - Financijsko izvještavanje za razdoblja tijekom godine), b) informacije gdje je omogućen pristup posljednjim godišnjim financijskim izvještajima, radi razumijevanja informacija objavljenih u bilješkama uz financijske izvještaje sastavljene za izvještajno tromjesečno razdoblje, https://corporate.aci-marinas.com/financijska-izvjesca/ c) izjava da se iste računovodstvene politike primjenjuju prilikom sastavljanja financijskih izvještaja za izvještajno tromjesečno razdoblje kao i u posljednjim godišnjim financijskim izvještajima ili, ako su te računovodstvene politike mijenjale, opis prirode i učinka promjene (točka 16.A (a) MRS 34- Financijsko izvještavanje za razdoblja tijekom godine), Financijski izvještaji Društva za razdoblje završeno 31.ožujka 2026. godine sastavljeni su sukladno Međunarodnom računovodstvenom standardu 34 - Financijsko izvještavanje tijekom godine. Ne uključuju sve podatke i objave koji su obvezni za godišnje financijske izvještaje te ih se treba čitati zajedno sa financijskim izvještajima Društva na dan 31. prosinca 2025. godine. Financijski izvještaji pripremljeni su temeljem istih računovodstvenih politika, prikaza i metoda izračuna koji su se koristili prilikom pripreme godišnjih financijskih izvještaja Društva na dan 31. prosinca 2025. godine d) objašnjenje poslovnih rezultata u slučaju da izdavatelj obavlja djelatnost sezonske prirode (točke 37. i 38. MRS 34- Financijsko izvještavanje za razdoblja tijekom godine) Predmet poslovanja Društva je organiziranje i pružanje usluga veza i ostalih usluga nautičarima na pomorskom dobru temeljem dodjeljenih koncesija u 22 marine i 1 sidrišta. Prihodi dnevnog veza ostvaruju se prvenstveno u trećem kvartalu tijekom ljetnih mjeseci srpnja i kolovoza, dok je prihod od usluge godišnjeg veza ravnomjerno raspoređen sukladno korištenju usluge. e) ostale objave koje propisuje MRS 34- Financijsko izvještavanje za razdoblja tijekom godine te f) u bilješkama uz financijske izvještaje za tromjesečna razdoblja, osim gore navedenih informacija, objavljuju se i sljedeće informacije: 1. naziv, sjedište poduzetnika (adresa), pravni oblik poduzetnika, državu osnivanja, matični broj subjekta, osobni identifikacijski broj te, ako je primjenjivo, da je poduzetnik u likvidaciji, stečaju, skraćenom postupku prestanka ili izvanrednoj upravi Adriatic Croatia International Club, za djelatnost marina d.d. (ACI d.d.), RH, Matični broj: 040002541, OIB: 17195049659 2. usvojene računovodstvene politike (samo naznaku je li došlo do promjene u odnosu na prethodno razdoblje) Računovodstvene politike navedene su u sklopu bilješki uz Godišnje izvješće za 2025. godinu, poglavlje 2. te se nisu mijenjale u izvještajnom razdoblju. 3. ukupan iznos svih financijskih obveza, jamstava ili nepredviđenih izdataka koji nisu uključeni u bilancu, te naznaku prirode i oblika eventualno uspostavljenog stvarnog osiguranja koje je dano; sve obveze koje se odnose na mirovine poduzetnika unutar grupe ili društva povezana sudjelujućim interesom objavljuju se odvojeno Tijekom izvještajnog razdoblja za 2026. godinu nije bilo navedenih obveza i izdataka koji nisu uključeni u bilancu. 4. iznos i prirodu pojedinih stavki prihoda ili rashoda izuzetne veličine ili pojave Prihodi i rashodi detaljno su obrađeni u sklopu izvještaja u poglavljima osvrt na rezultate poslovanja. 5. iznose koje poduzetnik duguje i koji dospijevaju nakon više od pet godina, kao i ukupna dugovanja poduzetnika pokrivena vrijednim osiguranjem koje je dao poduzetnik, uz naznaku vrste i oblika osiguranja Društvo ima dugoročni investicijski kredit s kvartalnom otplatom glavnice i završetkom otplate 30.06.2028. godine.Sredstvo osiguranja kredita je zadužnica. U rujnu 2021. godine sklopljen je aneks ugovoru, temeljem kojeg je izmijenjena kamatna stopa na 0,7% godišnje. Sredinom prosinca 2024. godine Društvo je nabavilo službena vozila putem financijskog najma u trajanju od 4 godine uz kamatnu stopu od 7,24%. Stanje kreditnih obveza na dan 31.03.2026. godine iznosi 3,7 milijuna eura. 6. prosječan broj zaposlenih tijekom tekućeg razdoblja je 348 7. ako je poduzetnik u poslovnoj godini sukladno propisima kapitalizirao trošak plaća djelomično ili u cijelosti, informaciju o iznosu ukupnog troška zaposlenih tijekom godine raščlanjenom na iznos koji je direktno teretio troškove razdoblja i iznos koji je kapitaliziran u vrijednost imovine tijekom razdoblja, na način da se za svaki dio posebno iskaže ukupni iznos neto plaća te iznos poreza, doprinosa iz plaća i doprinosa na plaće Društvo tijekom izvještajnog perioda za 2025. godinu nije kapitaliziralo trošak plaća. 8. ako su u bilanci priznata rezerviranja za odgođeni porez, stanja odgođenog poreza na kraju poslovne godine i kretanja tih stanja tijekom poslovne godine Odgođena porezna imovina na dan 31.03.2026. godine iznosi 259 tisuća te je ista kao i na dan 31.12.2025. 9. naziv i sjedište svakog poduzetnika u kojem poduzetnik, bilo sam ili preko osobe koja djeluje u svoje ime ali za račun poduzetnika, drži sudjelujući udjel u kapitalu, iskazujući iznos kapitala koji se drži, iznos ukupnog kapitala i rezervi, i dobit ili gubitak posljednje poslovne godine predmetnog poduzetnika, a za koje su usvojeni godišnji financijski izvještaji; informacije u pogledu kapitala i rezervi i dobiti ili gubitka mogu se izostaviti u slučaju kada predmetni poduzetnik ne objavljuje svoju bilancu i nije pod kontrolom drugog poduzetnika Društvo je sklopilo Ugovor o zajedničkom ulaganju s tvrtkom Gitone Kvarner d.o.o. iz Zagreba i ima 50% udjela. Sve odluke Uprave moraju biti odobrene od strane oba vlasnika, pa je ulaganje klasificirano kao zajednički pothvat. Društvo je osnovano radi prijave na natječaj za dodjelu koncesije za izgradnju i komercijalno korištenje luke nautičkog turizma Porto Baroš u Rijeci. Na dan 31.03.2025. Uz početnu neto imovinu od 66 tisuća eura, Društvo ima iskazano ulaganje u bilanci u iznosu od 2,8milijuna eura uz preneseni gubitak iz prethodnih razdoblja u iznsu od 0,6 milijuna eura. Tijekom izvještajnog razddoblja evidentirano 50% gubitka ACI-GITONE d.o.o. u iznosu od 36 tisuća od eura. Slijedom navedenog neto iskazana vrijednost ulaganja na kraju perioda iznosi 2,3 milijuna eura. 10. broj i nominalnu vrijednost, ili ako ne postoji nominalna vrijednost, knjigovodstvenu vrijednost dionica ili udjela upisanih tijekom poslovne godine u okviru odobrenog kapitala Društvo raspolaže s 111.060 redovnih dionica bez nominalnog iznosa. Temeljni kapital Društva, iznosi 53.064.702,37 EUR-a. Svaka dionica će se odnositi na 1/111.060 dijela temeljnog kapitala. 11. postojanje bilo kakvih potvrda o sudjelovanju, konvertibilnih zadužnica, jamstava, opcija ili sličnih vrijednosnica ili prava, s naznakom njihovog broja i prava koja daju Tijekom izvještajnog perioda nije bilo navedenih vrijednosnica ili prava 12. naziv, sjedište te pravni oblik svakog poduzetnika u kojemu poduzetnik ima neograničenu odgovornost Tijekom izvještajnog prioda za 2026. godinu nije bilo društava u kojima izdavatelj ima neograničenu odgovornost. 13. naziv i sjedište poduzetnika koji sastavlja tromjesečni konsolidirani financijski izvještaj najveće grupe poduzetnika u kojoj poduzetnik sudjeluje kao kontrolirani član grupe Društvo ne sastavlja konsolidirane izvještaje. 14. naziv i sjedište poduzetnika koji sastavlja tromjesečni konsolidirani financijski izvještaj najmanje grupe poduzetnika u kojoj poduzetnik sudjeluje kao kontrolirani član i koji je također uključen u grupu poduzetnika iz točke 13. Društvo ne sastavlja konsolidirane izvještaje 15. mjesto na kojem je moguće dobiti primjerke tromjesečnih konsolidiranih financijskih izvještaja iz točaka 13. i 14., pod uvjetom da su dostupni Društvo ne sastavlja konsolidirane izvještaje 16. prirodu i poslovnu svrhu aranžmana poduzetnika koji nisu uključeni u bilancu i financijski utjecaj tih aranžmana na poduzetnika, pod uvjetom da su rizici ili koristi koji proizlaze iz takvih aranžmana materijalni i u mjeri u kojoj je objavljivanje takvih rizika ili koristi nužno za procjenu financijskog stanja poduzetnika Nije bilo navedenih aranžmana. 17. prirodu i financijski učinak značajnih događaja koji su nastupili nakon datuma bilance i nisu odraženi u računu dobiti i gubitka ili bilanci Nakon 31. ožujka 2026. godine nije bilo događaja koji bi imali značajan utjecaj na financijske izvještaje za period koji je završio 31. ožujka 2026. godine, odnosno nisu od takvog značaja za poslovanje Društva da bi zahtijevali objavu u bilješkama uz financijske izvještaje.
A41: Usporedba izvještajnih pozicija MSFI i TFI POD
A42: Izvještaj o financijskom položaju na dan 31.03.2026.
A43: Stavka po MSFI | B43: BILJEŠKA | C43: Iznos u 000 eura | D43: Stavka TFI - POD | E43: AOP | F43: Iznos u 000 eura
A44: AKTIVA
A45: Nekretnine, postrojenja i oprema | C45: 31627 | D45: Materijalna imovina | E45: AOP 010 (AOP 011 do 019) | F45: =+Bilanca!I17/1000 -> 35328
A46: Ulaganja u nekretnine | C46: 3701
A47: Nematerijalna imovina | C47: 541 | D47: Nematerijalna imovina | E47: AOP 003 (AOP 004 do 009) | F47: =+Bilanca!I10/1000 -> 2030
A48: Imovina s pravom korištenja | C48: 1489
A49: Potraživanja od kupaca | C49: 671 | D49: Potraživanja | E49: AOP 046 (AOP 047 do 052) | F49: =+Bilanca!I53/1000 -> 3835
A50: Ugovorna imovina | C50: 2523 | D50: Plaćeni troškovi budućeg razdoblja i obračunati prihodi | E50: AOP 064 | F50: =+Bilanca!I71/1000 -> 223
A51: Ostala potraživanja | C51: 605
A52: Potraživanja za preplaćeni porez na dobit | C52: 260
A53: PASIVA
A54: Obveze po kreditima - kratkoročne | C54: 1608 | D54: Obveze po kreditima | E54: AOP 115 | F54: =+Bilanca!I124/1000 -> 1602
D55: Ostale kratkoročne obveze - kamata | E55: AOP 123 | F55: 6
A56: Ugovorna obveza | C56: 2036 | D56: Ostale kratkoročne obveze - ugovorna obveza | E56: AOP 115 | F56: =+(1315089.62+720970.54)/1000 -> 2036
A57: Obveze po najmovima - kratkoročne | C57: 571 | D57: Ostale kratkoročne obveze - pravo korištenja imovine | E57: AOP 123 | F57: 295
D58: Obveze za poreze, doprinose i slična davanja - pravo korištenja imovine (koncesija) | E58: AOP 120 | F58: =+C57-F57-F59 -> 252
D59: Dobavljači nematerijalne imovine - s osnova prava korištenja | E59: AOP 117 | F59: 24
A60: Rezerviranja - kratkoročna | C60: 462 | D60: Odgođeno plaćanje troškova i prihod budućeg razdoblja - rezerviranja | E60: AOP 124 | F60: =+(31834.46+444.81+3129.77+124792.2)/1000 -> 160
D61: Obveze prema zaposlenima - otpremnine i jubilarne nagrade | E61: AOP 119 | F61: =+C60-F60 -> 302
A62: Izvještaj o sveobuhvatnoj dobiti za razdoblje 01.01. do 31.03.2026.
A63: Stavka po MSFI | B63: BILJEŠKA | C63: Iznos u 000 eura | D63: Stavka GFI - POD | E63: AOP | F63: Iznos u 000 eura
A64: Troškovi osoblja | C64: 3091 | D64: Troškovi osoblja | E64: AOP 013 (AOP 14 do 16) | F64: =+RDG!J20/1000 -> 2958
D65: Rezerviranja za mirovine, otpremnine i slične obveze | E65: AOP 023 | F65: =+RDG!J30 -> 0
D66: Ostali troškovi - naknade zaposlenicima | E66: AOP 018 | F66: =+C64-F64 -> 133
A67: Ostali poslovni rashodi | C67: 522 | D67: Vrijednosna usklađenja b) kratkotrajne imovine osim financijske imovine | E67: AOP 021 | F67: =+RDG!J26/1000 -> 98
D68: Ostali troškovi - bez naknade zaposlenicima | E68: AOP 018 | F68: =+(RDG!J25)/1000-Bilješke!F66 -> 337
D69: Ostali poslovni rashodi - osim ostalih gubitaka | E69: AOP 029 | F69: =+C67-F67-F70-F68 -> 73
D70: Rezerviranja za započete sudske sporove | E70: AOP 025 | F70: =+RDG!J32/1000 -> 14
